BEGIN:VCALENDAR
VERSION:2.0
PRODID:-//HITS Theatre - ECPv6.15.20//NONSGML v1.0//EN
CALSCALE:GREGORIAN
METHOD:PUBLISH
X-ORIGINAL-URL:https://hitstheatre.org
X-WR-CALDESC:Events for HITS Theatre
REFRESH-INTERVAL;VALUE=DURATION:PT1H
X-Robots-Tag:noindex
X-PUBLISHED-TTL:PT1H
BEGIN:VTIMEZONE
TZID:America/Chicago
BEGIN:DAYLIGHT
TZOFFSETFROM:-0600
TZOFFSETTO:-0500
TZNAME:CDT
DTSTART:20180311T080000
END:DAYLIGHT
BEGIN:STANDARD
TZOFFSETFROM:-0500
TZOFFSETTO:-0600
TZNAME:CST
DTSTART:20181104T070000
END:STANDARD
BEGIN:DAYLIGHT
TZOFFSETFROM:-0600
TZOFFSETTO:-0500
TZNAME:CDT
DTSTART:20190310T080000
END:DAYLIGHT
BEGIN:STANDARD
TZOFFSETFROM:-0500
TZOFFSETTO:-0600
TZNAME:CST
DTSTART:20191103T070000
END:STANDARD
BEGIN:DAYLIGHT
TZOFFSETFROM:-0600
TZOFFSETTO:-0500
TZNAME:CDT
DTSTART:20200308T080000
END:DAYLIGHT
BEGIN:STANDARD
TZOFFSETFROM:-0500
TZOFFSETTO:-0600
TZNAME:CST
DTSTART:20201101T070000
END:STANDARD
END:VTIMEZONE
BEGIN:VEVENT
DTSTART;TZID=America/Chicago:20191105T160000
DTEND;TZID=America/Chicago:20191105T171500
DTSTAMP:20260422T072534
CREATED:20190722T164244Z
LAST-MODIFIED:20190722T164244Z
UID:3671-1572969600-1572974100@hitstheatre.org
SUMMARY:Disney's "The Lion King KIDS" rehearsal (Tuesday/Thursday grades K-3)
DESCRIPTION:HITS Theatre Productions are a chance for students to practice their acting\, singing and dancing skills through a traditional rehearsal process. Each production is supported by a professional director\, choreographer\, music director\, stage manager and designers. As an ensemble\, the students each play an important role in telling a story for a live audience by learning music\, choreography and staging. Our professional creative team guides our students through character development\, proper vocal technique and strengthening motor skills & coordination.
URL:https://hitstheatre.org/calendar/disneys-the-lion-king-kids-rehearsal-tuesday-thursday-grades-k-3-17/
LOCATION:HITS\, United States
CATEGORIES:Class
END:VEVENT
BEGIN:VEVENT
DTSTART;TZID=America/Chicago:20191105T170000
DTEND;TZID=America/Chicago:20191105T183000
DTSTAMP:20260422T072534
CREATED:20190722T164324Z
LAST-MODIFIED:20190722T164324Z
UID:3696-1572973200-1572978600@hitstheatre.org
SUMMARY:Disney's "The Lion King KIDS" rehearsal (Tuesday/Thursday grades 3-5)
DESCRIPTION:HITS Theatre Productions are a chance for students to practice their acting\, singing and dancing skills through a traditional rehearsal process. Each production is supported by a professional director\, choreographer\, music director\, stage manager and designers. As an ensemble\, the students each play an important role in telling a story for a live audience by learning music\, choreography and staging. Our professional creative team guides our students through character development\, proper vocal technique and strengthening motor skills & coordination.
URL:https://hitstheatre.org/calendar/disneys-the-lion-king-kids-rehearsal-tuesday-thursday-grades-3-5-17/
LOCATION:HITS\, United States
END:VEVENT
BEGIN:VEVENT
DTSTART;TZID=America/Chicago:20191105T184500
DTEND;TZID=America/Chicago:20191105T204500
DTSTAMP:20260422T072534
CREATED:20190806T211518Z
LAST-MODIFIED:20190806T211518Z
UID:3779-1572979500-1572986700@hitstheatre.org
SUMMARY:T.N.O. - Advanced Musical Theater (Grades 7-12)
DESCRIPTION:This 10-week intensive will allow students to dive deep into musical theater repertoire. Each week will include an intermediate/advanced dance class and song interpretation master class (how to act a song). The material will be new each semester\, so the class is repeatable and a great companion course for those registered in productions.
URL:https://hitstheatre.org/calendar/t-n-o-advanced-musical-theater-grades-7-12-8/
LOCATION:HITS\, United States
CATEGORIES:Class
END:VEVENT
BEGIN:VEVENT
DTSTART;TZID=America/Chicago:20191106T160000
DTEND;TZID=America/Chicago:20191106T171500
DTSTAMP:20260422T072534
CREATED:20190722T164059Z
LAST-MODIFIED:20190722T164059Z
UID:3622-1573056000-1573060500@hitstheatre.org
SUMMARY:Disney's "The Lion King KIDS" rehearsal (Monday/Wednesday grades K-3)
DESCRIPTION:HITS Theatre Productions are a chance for students to practice their acting\, singing and dancing skills through a traditional rehearsal process. Each production is supported by a professional director\, choreographer\, music director\, stage manager and designers. As an ensemble\, the students each play an important role in telling a story for a live audience by learning music\, choreography and staging. Our professional creative team guides our students through character development\, proper vocal technique and strengthening motor skills & coordination.
URL:https://hitstheatre.org/calendar/disneys-the-lion-king-kids-rehearsal-monday-wednesday-grades-k-3-21/
LOCATION:HITS\, United States
CATEGORIES:Class
END:VEVENT
BEGIN:VEVENT
DTSTART;TZID=America/Chicago:20191106T170000
DTEND;TZID=America/Chicago:20191106T183000
DTSTAMP:20260422T072534
CREATED:20190722T164128Z
LAST-MODIFIED:20190722T164128Z
UID:3647-1573059600-1573065000@hitstheatre.org
SUMMARY:Disney's "The Lion King KIDS" rehearsal (Monday/Wednesday grades 3-5)
DESCRIPTION:HITS Theatre Productions are a chance for students to practice their acting\, singing and dancing skills through a traditional rehearsal process. Each production is supported by a professional director\, choreographer\, music director\, stage manager and designers. As an ensemble\, the students each play an important role in telling a story for a live audience by learning music\, choreography and staging. Our professional creative team guides our students through character development\, proper vocal technique and strengthening motor skills & coordination.
URL:https://hitstheatre.org/calendar/disneys-the-lion-king-kids-rehearsal-monday-wednesday-grades-3-5-18/
LOCATION:HITS\, United States
CATEGORIES:Class
END:VEVENT
BEGIN:VEVENT
DTSTART;TZID=America/Chicago:20191106T190000
DTEND;TZID=America/Chicago:20191106T210000
DTSTAMP:20260422T072534
CREATED:20190912T182944Z
LAST-MODIFIED:20190912T182944Z
UID:3831-1573066800-1573074000@hitstheatre.org
SUMMARY:Disney's "Frozen Jr." rehearsal (Grades 6-12)
DESCRIPTION:
URL:https://hitstheatre.org/calendar/disneys-frozen-jr-rehearsal-grades-6-12-8/
LOCATION:HITS\, United States
CATEGORIES:Class
END:VEVENT
BEGIN:VEVENT
DTSTART;TZID=America/Chicago:20191107T160000
DTEND;TZID=America/Chicago:20191107T171500
DTSTAMP:20260422T072534
CREATED:20190722T164245Z
LAST-MODIFIED:20190722T164245Z
UID:3672-1573142400-1573146900@hitstheatre.org
SUMMARY:Disney's "The Lion King KIDS" rehearsal (Tuesday/Thursday grades K-3)
DESCRIPTION:HITS Theatre Productions are a chance for students to practice their acting\, singing and dancing skills through a traditional rehearsal process. Each production is supported by a professional director\, choreographer\, music director\, stage manager and designers. As an ensemble\, the students each play an important role in telling a story for a live audience by learning music\, choreography and staging. Our professional creative team guides our students through character development\, proper vocal technique and strengthening motor skills & coordination.
URL:https://hitstheatre.org/calendar/disneys-the-lion-king-kids-rehearsal-tuesday-thursday-grades-k-3-18/
LOCATION:HITS\, United States
CATEGORIES:Class
END:VEVENT
BEGIN:VEVENT
DTSTART;TZID=America/Chicago:20191107T170000
DTEND;TZID=America/Chicago:20191107T183000
DTSTAMP:20260422T072534
CREATED:20190722T164326Z
LAST-MODIFIED:20190722T164329Z
UID:3697-1573146000-1573151400@hitstheatre.org
SUMMARY:Disney's "The Lion King KIDS" rehearsal (Tuesday/Thursday grades 3-5)
DESCRIPTION:HITS Theatre Productions are a chance for students to practice their acting\, singing and dancing skills through a traditional rehearsal process. Each production is supported by a professional director\, choreographer\, music director\, stage manager and designers. As an ensemble\, the students each play an important role in telling a story for a live audience by learning music\, choreography and staging. Our professional creative team guides our students through character development\, proper vocal technique and strengthening motor skills & coordination.
URL:https://hitstheatre.org/calendar/disneys-the-lion-king-kids-rehearsal-tuesday-thursday-grades-3-5-18/
LOCATION:HITS\, United States
CATEGORIES:Class
END:VEVENT
BEGIN:VEVENT
DTSTART;TZID=America/Chicago:20191107T183000
DTEND;TZID=America/Chicago:20191107T210000
DTSTAMP:20260422T072534
CREATED:20191030T173537Z
LAST-MODIFIED:20191030T173537Z
UID:3944-1573151400-1573160400@hitstheatre.org
SUMMARY:Roald Dahl's MATILDA the MUSICAL Audition (Grades 5-12)
DESCRIPTION:Roald Dahl’s MATILDA the MUSICAL Audition Sign Up (Grades 5-12)
URL:https://hitstheatre.org/calendar/roald-dahls-matilda-the-musical-audition-grades-5-12/
LOCATION:HITS\, United States
CATEGORIES:Audition
END:VEVENT
BEGIN:VEVENT
DTSTART;TZID=America/Chicago:20191109T100000
DTEND;TZID=America/Chicago:20191109T110000
DTSTAMP:20260422T072534
CREATED:20190729T190915Z
LAST-MODIFIED:20190729T190915Z
UID:3722-1573293600-1573297200@hitstheatre.org
SUMMARY:Exploring Musical Theatre Fall 2019 (Saturday Grades K-2)
DESCRIPTION:In this class\, students are taught how to develop and improve creative skills through a variety of theatrical lessons. Every week students are given the opportunity to apply their imaginations so they can perform with confidence\, participate collaboratively\, and enhance problem-solving abilities. Activities and topics covered may include guided sensory journeys\, retelling stories\, statue\, creative play\, storytelling\, pantomime\, collaboration\, and improvisation. For students in grades K through 2\, this class is a wonderful way to introduce your child to the world of theatre\, reinforce skills\, and prepare for stage performances in a fun\, nurturing environment.
URL:https://hitstheatre.org/calendar/exploring-musical-theatre-fall-2019-saturday-grades-k-2-12/
LOCATION:HITS\, United States
CATEGORIES:Class
END:VEVENT
BEGIN:VEVENT
DTSTART;TZID=America/Chicago:20191109T111500
DTEND;TZID=America/Chicago:20191109T130000
DTSTAMP:20260422T072534
CREATED:20190729T191000Z
LAST-MODIFIED:20190729T191000Z
UID:3733-1573298100-1573304400@hitstheatre.org
SUMMARY:Musical Theater Junior Workshop Fall 2019 (Saturday Grades 3-5)
DESCRIPTION:In this class\, students receive 35 minutes of dedicated “triple threat” training in each of the musical theater disciplines: acting\, vocal arts\, and dance! Every week students will explore monologues and scenes\, songs\, and dances from your favorite musicals. Each semester’s theme changes\, so this class is repeatable\, and over several years\, students will have been exposed to all musical theater styles and repertoire.
URL:https://hitstheatre.org/calendar/musical-theater-junior-workshop-fall-2019-saturday-grades-3-5-10/
LOCATION:HITS\, United States
CATEGORIES:Class
END:VEVENT
BEGIN:VEVENT
DTSTART;TZID=America/Chicago:20191109T131500
DTEND;TZID=America/Chicago:20191109T151500
DTSTAMP:20260422T072534
CREATED:20190729T191008Z
LAST-MODIFIED:20190729T191008Z
UID:3744-1573305300-1573312500@hitstheatre.org
SUMMARY:Musical Theater Workshop Fall 2019 (Saturday Grades 6-8)
DESCRIPTION:In this Saturday afternoon class\, students receive 40 minutes of dedicated “triple threat” training in each of the musical theater disciplines: acting\, vocal arts\, and dance! Every week students will explore monologues and scenes\, songs\, and dances from your favorite musicals. Each semester’s theme changes\, so this class is repeatable\, and over several years\, students will have been exposed to all musical theater styles and repertoire.
URL:https://hitstheatre.org/calendar/musical-theater-workshop-fall-2019-saturday-grades-6-8-10/
LOCATION:HITS\, United States
CATEGORIES:Class
END:VEVENT
BEGIN:VEVENT
DTSTART;TZID=America/Chicago:20191109T153000
DTEND;TZID=America/Chicago:20191109T153000
DTSTAMP:20260422T072534
CREATED:20190912T182951Z
LAST-MODIFIED:20190912T182951Z
UID:3841-1573313400-1573313400@hitstheatre.org
SUMMARY:Disney's "Frozen Jr." rehearsal (Grades 6-12)
DESCRIPTION:
URL:https://hitstheatre.org/calendar/disneys-frozen-jr-rehearsal-grades-6-12-18/
LOCATION:HITS\, United States
CATEGORIES:Class
END:VEVENT
BEGIN:VEVENT
DTSTART;TZID=America/Chicago:20191110T150000
DTEND;TZID=America/Chicago:20191110T170000
DTSTAMP:20260422T072534
CREATED:20191030T173538Z
LAST-MODIFIED:20191030T173538Z
UID:3945-1573398000-1573405200@hitstheatre.org
SUMMARY:Roald Dahl's MATILDA the MUSICAL Audition (Grades 5-12)
DESCRIPTION:Roald Dahl’s MATILDA the MUSICAL Audition Sign Up (Grades 5-12)
URL:https://hitstheatre.org/calendar/roald-dahls-matilda-the-musical-audition-grades-5-12-2/
LOCATION:HITS\, United States
CATEGORIES:Audition
END:VEVENT
BEGIN:VEVENT
DTSTART;TZID=America/Chicago:20191110T170000
DTEND;TZID=America/Chicago:20191110T190000
DTSTAMP:20260422T072534
CREATED:20191030T173538Z
LAST-MODIFIED:20191030T173538Z
UID:3946-1573405200-1573412400@hitstheatre.org
SUMMARY:Roald Dahl's MATILDA the MUSICAL Audition (Grades 5-12)
DESCRIPTION:Roald Dahl’s MATILDA the MUSICAL Audition Sign Up (Grades 5-12)
URL:https://hitstheatre.org/calendar/roald-dahls-matilda-the-musical-audition-grades-5-12-3/
LOCATION:HITS\, United States
CATEGORIES:Audition
END:VEVENT
BEGIN:VEVENT
DTSTART;TZID=America/Chicago:20191111T160000
DTEND;TZID=America/Chicago:20191111T171500
DTSTAMP:20260422T072534
CREATED:20190722T164100Z
LAST-MODIFIED:20190722T164100Z
UID:3623-1573488000-1573492500@hitstheatre.org
SUMMARY:Disney's "The Lion King KIDS" rehearsal (Monday/Wednesday grades K-3)
DESCRIPTION:HITS Theatre Productions are a chance for students to practice their acting\, singing and dancing skills through a traditional rehearsal process. Each production is supported by a professional director\, choreographer\, music director\, stage manager and designers. As an ensemble\, the students each play an important role in telling a story for a live audience by learning music\, choreography and staging. Our professional creative team guides our students through character development\, proper vocal technique and strengthening motor skills & coordination.
URL:https://hitstheatre.org/calendar/disneys-the-lion-king-kids-rehearsal-monday-wednesday-grades-k-3-22/
LOCATION:HITS\, United States
CATEGORIES:Class
END:VEVENT
BEGIN:VEVENT
DTSTART;TZID=America/Chicago:20191111T170000
DTEND;TZID=America/Chicago:20191111T183000
DTSTAMP:20260422T072534
CREATED:20190722T164128Z
LAST-MODIFIED:20190722T164128Z
UID:3648-1573491600-1573497000@hitstheatre.org
SUMMARY:Disney's "The Lion King KIDS" rehearsal (Monday/Wednesday grades 3-5)
DESCRIPTION:HITS Theatre Productions are a chance for students to practice their acting\, singing and dancing skills through a traditional rehearsal process. Each production is supported by a professional director\, choreographer\, music director\, stage manager and designers. As an ensemble\, the students each play an important role in telling a story for a live audience by learning music\, choreography and staging. Our professional creative team guides our students through character development\, proper vocal technique and strengthening motor skills & coordination.
URL:https://hitstheatre.org/calendar/disneys-the-lion-king-kids-rehearsal-monday-wednesday-grades-3-5-19/
LOCATION:HITS\, United States
CATEGORIES:Class
END:VEVENT
BEGIN:VEVENT
DTSTART;TZID=America/Chicago:20191112T160000
DTEND;TZID=America/Chicago:20191112T171500
DTSTAMP:20260422T072534
CREATED:20190722T164258Z
LAST-MODIFIED:20190722T164258Z
UID:3673-1573574400-1573578900@hitstheatre.org
SUMMARY:Disney's "The Lion King KIDS" rehearsal (Tuesday/Thursday grades K-3)
DESCRIPTION:HITS Theatre Productions are a chance for students to practice their acting\, singing and dancing skills through a traditional rehearsal process. Each production is supported by a professional director\, choreographer\, music director\, stage manager and designers. As an ensemble\, the students each play an important role in telling a story for a live audience by learning music\, choreography and staging. Our professional creative team guides our students through character development\, proper vocal technique and strengthening motor skills & coordination.
URL:https://hitstheatre.org/calendar/disneys-the-lion-king-kids-rehearsal-tuesday-thursday-grades-k-3-19/
LOCATION:HITS\, United States
CATEGORIES:Class
END:VEVENT
BEGIN:VEVENT
DTSTART;TZID=America/Chicago:20191112T170000
DTEND;TZID=America/Chicago:20191112T183000
DTSTAMP:20260422T072534
CREATED:20190722T164326Z
LAST-MODIFIED:20190722T164329Z
UID:3698-1573578000-1573583400@hitstheatre.org
SUMMARY:Disney's "The Lion King KIDS" rehearsal (Tuesday/Thursday grades 3-5)
DESCRIPTION:HITS Theatre Productions are a chance for students to practice their acting\, singing and dancing skills through a traditional rehearsal process. Each production is supported by a professional director\, choreographer\, music director\, stage manager and designers. As an ensemble\, the students each play an important role in telling a story for a live audience by learning music\, choreography and staging. Our professional creative team guides our students through character development\, proper vocal technique and strengthening motor skills & coordination.
URL:https://hitstheatre.org/calendar/disneys-the-lion-king-kids-rehearsal-tuesday-thursday-grades-3-5-19/
LOCATION:HITS\, United States
CATEGORIES:Class
END:VEVENT
BEGIN:VEVENT
DTSTART;TZID=America/Chicago:20191112T184500
DTEND;TZID=America/Chicago:20191112T204500
DTSTAMP:20260422T072534
CREATED:20190806T211518Z
LAST-MODIFIED:20190806T211518Z
UID:3780-1573584300-1573591500@hitstheatre.org
SUMMARY:T.N.O. - Advanced Musical Theater (Grades 7-12)
DESCRIPTION:This 10-week intensive will allow students to dive deep into musical theater repertoire. Each week will include an intermediate/advanced dance class and song interpretation master class (how to act a song). The material will be new each semester\, so the class is repeatable and a great companion course for those registered in productions.
URL:https://hitstheatre.org/calendar/t-n-o-advanced-musical-theater-grades-7-12-9/
LOCATION:HITS\, United States
CATEGORIES:Class
END:VEVENT
BEGIN:VEVENT
DTSTART;TZID=America/Chicago:20191113T160000
DTEND;TZID=America/Chicago:20191113T171500
DTSTAMP:20260422T072534
CREATED:20190722T164100Z
LAST-MODIFIED:20190722T164100Z
UID:3624-1573660800-1573665300@hitstheatre.org
SUMMARY:Disney's "The Lion King KIDS" rehearsal (Monday/Wednesday grades K-3)
DESCRIPTION:HITS Theatre Productions are a chance for students to practice their acting\, singing and dancing skills through a traditional rehearsal process. Each production is supported by a professional director\, choreographer\, music director\, stage manager and designers. As an ensemble\, the students each play an important role in telling a story for a live audience by learning music\, choreography and staging. Our professional creative team guides our students through character development\, proper vocal technique and strengthening motor skills & coordination.
URL:https://hitstheatre.org/calendar/disneys-the-lion-king-kids-rehearsal-monday-wednesday-grades-k-3-23/
LOCATION:HITS\, United States
CATEGORIES:Class
END:VEVENT
BEGIN:VEVENT
DTSTART;TZID=America/Chicago:20191113T170000
DTEND;TZID=America/Chicago:20191113T183000
DTSTAMP:20260422T072534
CREATED:20190722T164142Z
LAST-MODIFIED:20190722T164142Z
UID:3649-1573664400-1573669800@hitstheatre.org
SUMMARY:Disney's "The Lion King KIDS" rehearsal (Monday/Wednesday grades 3-5)
DESCRIPTION:HITS Theatre Productions are a chance for students to practice their acting\, singing and dancing skills through a traditional rehearsal process. Each production is supported by a professional director\, choreographer\, music director\, stage manager and designers. As an ensemble\, the students each play an important role in telling a story for a live audience by learning music\, choreography and staging. Our professional creative team guides our students through character development\, proper vocal technique and strengthening motor skills & coordination.
URL:https://hitstheatre.org/calendar/disneys-the-lion-king-kids-rehearsal-monday-wednesday-grades-3-5-20/
LOCATION:HITS\, United States
CATEGORIES:Class
END:VEVENT
BEGIN:VEVENT
DTSTART;TZID=America/Chicago:20191113T190000
DTEND;TZID=America/Chicago:20191113T210000
DTSTAMP:20260422T072534
CREATED:20190912T182944Z
LAST-MODIFIED:20190912T182944Z
UID:3832-1573671600-1573678800@hitstheatre.org
SUMMARY:Disney's "Frozen Jr." rehearsal (Grades 6-12)
DESCRIPTION:
URL:https://hitstheatre.org/calendar/disneys-frozen-jr-rehearsal-grades-6-12-9/
LOCATION:HITS\, United States
CATEGORIES:Class
END:VEVENT
BEGIN:VEVENT
DTSTART;TZID=America/Chicago:20191114T160000
DTEND;TZID=America/Chicago:20191114T171500
DTSTAMP:20260422T072534
CREATED:20190722T164259Z
LAST-MODIFIED:20190722T164259Z
UID:3674-1573747200-1573751700@hitstheatre.org
SUMMARY:Disney's "The Lion King KIDS" rehearsal (Tuesday/Thursday grades K-3)
DESCRIPTION:HITS Theatre Productions are a chance for students to practice their acting\, singing and dancing skills through a traditional rehearsal process. Each production is supported by a professional director\, choreographer\, music director\, stage manager and designers. As an ensemble\, the students each play an important role in telling a story for a live audience by learning music\, choreography and staging. Our professional creative team guides our students through character development\, proper vocal technique and strengthening motor skills & coordination.
URL:https://hitstheatre.org/calendar/disneys-the-lion-king-kids-rehearsal-tuesday-thursday-grades-k-3-20/
LOCATION:HITS\, United States
CATEGORIES:Class
END:VEVENT
BEGIN:VEVENT
DTSTART;TZID=America/Chicago:20191114T170000
DTEND;TZID=America/Chicago:20191114T183000
DTSTAMP:20260422T072534
CREATED:20190722T164327Z
LAST-MODIFIED:20190722T164329Z
UID:3699-1573750800-1573756200@hitstheatre.org
SUMMARY:Disney's "The Lion King KIDS" rehearsal (Tuesday/Thursday grades 3-5)
DESCRIPTION:HITS Theatre Productions are a chance for students to practice their acting\, singing and dancing skills through a traditional rehearsal process. Each production is supported by a professional director\, choreographer\, music director\, stage manager and designers. As an ensemble\, the students each play an important role in telling a story for a live audience by learning music\, choreography and staging. Our professional creative team guides our students through character development\, proper vocal technique and strengthening motor skills & coordination.
URL:https://hitstheatre.org/calendar/disneys-the-lion-king-kids-rehearsal-tuesday-thursday-grades-3-5-20/
LOCATION:HITS\, United States
CATEGORIES:Class
END:VEVENT
BEGIN:VEVENT
DTSTART;TZID=America/Chicago:20191116T100000
DTEND;TZID=America/Chicago:20191116T110000
DTSTAMP:20260422T072534
CREATED:20190729T190929Z
LAST-MODIFIED:20190729T190929Z
UID:3723-1573898400-1573902000@hitstheatre.org
SUMMARY:Parent Observation Day: Exploring Musical Theatre Fall 2019 (Saturday Grades K-2)
DESCRIPTION:In this class\, students are taught how to develop and improve creative skills through a variety of theatrical lessons. Every week students are given the opportunity to apply their imaginations so they can perform with confidence\, participate collaboratively\, and enhance problem-solving abilities. Activities and topics covered may include guided sensory journeys\, retelling stories\, statue\, creative play\, storytelling\, pantomime\, collaboration\, and improvisation. For students in grades K through 2\, this class is a wonderful way to introduce your child to the world of theatre\, reinforce skills\, and prepare for stage performances in a fun\, nurturing environment.
URL:https://hitstheatre.org/calendar/parent-observation-day-exploring-musical-theatre-fall-2019-saturday-grades-k-2/
LOCATION:HITS\, United States
CATEGORIES:Class
END:VEVENT
BEGIN:VEVENT
DTSTART;TZID=America/Chicago:20191116T111500
DTEND;TZID=America/Chicago:20191116T130000
DTSTAMP:20260422T072534
CREATED:20190729T191000Z
LAST-MODIFIED:20190729T191000Z
UID:3734-1573902900-1573909200@hitstheatre.org
SUMMARY:Parent Observation Day: Musical Theater Junior Workshop Fall 2019 (Saturday Grades 3-5)
DESCRIPTION:In this class\, students receive 35 minutes of dedicated “triple threat” training in each of the musical theater disciplines: acting\, vocal arts\, and dance! Every week students will explore monologues and scenes\, songs\, and dances from your favorite musicals. Each semester’s theme changes\, so this class is repeatable\, and over several years\, students will have been exposed to all musical theater styles and repertoire.
URL:https://hitstheatre.org/calendar/parent-observation-day-musical-theater-junior-workshop-fall-2019-saturday-grades-3-5/
LOCATION:HITS\, United States
CATEGORIES:Class
END:VEVENT
BEGIN:VEVENT
DTSTART;TZID=America/Chicago:20191116T131500
DTEND;TZID=America/Chicago:20191116T151500
DTSTAMP:20260422T072534
CREATED:20190729T191008Z
LAST-MODIFIED:20190729T191008Z
UID:3745-1573910100-1573917300@hitstheatre.org
SUMMARY:Parent Observation Day: Musical Theater Workshop Fall 2019 (Saturday Grades 6-8)
DESCRIPTION:In this Saturday afternoon class\, students receive 40 minutes of dedicated “triple threat” training in each of the musical theater disciplines: acting\, vocal arts\, and dance! Every week students will explore monologues and scenes\, songs\, and dances from your favorite musicals. Each semester’s theme changes\, so this class is repeatable\, and over several years\, students will have been exposed to all musical theater styles and repertoire.
URL:https://hitstheatre.org/calendar/parent-observation-day-musical-theater-workshop-fall-2019-saturday-grades-6-8/
LOCATION:HITS\, United States
CATEGORIES:Class
END:VEVENT
BEGIN:VEVENT
DTSTART;TZID=America/Chicago:20191116T153000
DTEND;TZID=America/Chicago:20191116T153000
DTSTAMP:20260422T072534
CREATED:20190912T182951Z
LAST-MODIFIED:20190912T182951Z
UID:3842-1573918200-1573918200@hitstheatre.org
SUMMARY:Disney's "Frozen Jr." rehearsal (Grades 6-12)
DESCRIPTION:
URL:https://hitstheatre.org/calendar/disneys-frozen-jr-rehearsal-grades-6-12-19/
LOCATION:HITS\, United States
CATEGORIES:Class
END:VEVENT
BEGIN:VEVENT
DTSTART;TZID=America/Chicago:20191118T160000
DTEND;TZID=America/Chicago:20191118T171500
DTSTAMP:20260422T072534
CREATED:20190722T164114Z
LAST-MODIFIED:20190722T164114Z
UID:3625-1574092800-1574097300@hitstheatre.org
SUMMARY:Disney's "The Lion King KIDS" rehearsal (Monday/Wednesday grades K-3)
DESCRIPTION:HITS Theatre Productions are a chance for students to practice their acting\, singing and dancing skills through a traditional rehearsal process. Each production is supported by a professional director\, choreographer\, music director\, stage manager and designers. As an ensemble\, the students each play an important role in telling a story for a live audience by learning music\, choreography and staging. Our professional creative team guides our students through character development\, proper vocal technique and strengthening motor skills & coordination.
URL:https://hitstheatre.org/calendar/disneys-the-lion-king-kids-rehearsal-monday-wednesday-grades-k-3-24/
LOCATION:HITS\, United States
CATEGORIES:Class
END:VEVENT
END:VCALENDAR