BEGIN:VCALENDAR
VERSION:2.0
PRODID:-//HITS Theatre - ECPv6.15.20//NONSGML v1.0//EN
CALSCALE:GREGORIAN
METHOD:PUBLISH
X-WR-CALNAME:HITS Theatre
X-ORIGINAL-URL:https://hitstheatre.org
X-WR-CALDESC:Events for HITS Theatre
REFRESH-INTERVAL;VALUE=DURATION:PT1H
X-Robots-Tag:noindex
X-PUBLISHED-TTL:PT1H
BEGIN:VTIMEZONE
TZID:America/Chicago
BEGIN:DAYLIGHT
TZOFFSETFROM:-0600
TZOFFSETTO:-0500
TZNAME:CDT
DTSTART:20180311T080000
END:DAYLIGHT
BEGIN:STANDARD
TZOFFSETFROM:-0500
TZOFFSETTO:-0600
TZNAME:CST
DTSTART:20181104T070000
END:STANDARD
BEGIN:DAYLIGHT
TZOFFSETFROM:-0600
TZOFFSETTO:-0500
TZNAME:CDT
DTSTART:20190310T080000
END:DAYLIGHT
BEGIN:STANDARD
TZOFFSETFROM:-0500
TZOFFSETTO:-0600
TZNAME:CST
DTSTART:20191103T070000
END:STANDARD
BEGIN:DAYLIGHT
TZOFFSETFROM:-0600
TZOFFSETTO:-0500
TZNAME:CDT
DTSTART:20200308T080000
END:DAYLIGHT
BEGIN:STANDARD
TZOFFSETFROM:-0500
TZOFFSETTO:-0600
TZNAME:CST
DTSTART:20201101T070000
END:STANDARD
END:VTIMEZONE
BEGIN:VEVENT
DTSTART;TZID=America/Chicago:20191104T184500
DTEND;TZID=America/Chicago:20191104T184500
DTSTAMP:20260422T091732
CREATED:20190806T211549Z
LAST-MODIFIED:20190806T211549Z
UID:3790-1572893100-1572893100@hitstheatre.org
SUMMARY:Audition Techniques (Grades 5-8)
DESCRIPTION:This 9-week workshop focuses on empowering young actors to feel free\, confident and prepared for important auditions. Our instructors guide students on how to search for monologue and song material that supports clear casting choices for type\, age\, personality\, and voice. Discussions include “red flag” songs\, appropriate audition cuts\, and how to prepare one’s mind before\, during and after the audition. Students will be guided through a “dance call” with a professional choreographer\, and how to handle “cold readings” from a script. Participants will be taken through mock auditions and will receive feedback from a panel of experts\, which parents may observe at the final class. This course will require out-of-class research time (listening to music\, reading plays\, and memorizing material)
URL:https://hitstheatre.org/calendar/audition-techniques-grades-5-8-9/
LOCATION:HITS\, United States
CATEGORIES:Class
END:VEVENT
BEGIN:VEVENT
DTSTART;TZID=America/Chicago:20191104T170000
DTEND;TZID=America/Chicago:20191104T183000
DTSTAMP:20260422T091732
CREATED:20190722T164128Z
LAST-MODIFIED:20190722T164128Z
UID:3646-1572886800-1572892200@hitstheatre.org
SUMMARY:Disney's "The Lion King KIDS" rehearsal (Monday/Wednesday grades 3-5)
DESCRIPTION:HITS Theatre Productions are a chance for students to practice their acting\, singing and dancing skills through a traditional rehearsal process. Each production is supported by a professional director\, choreographer\, music director\, stage manager and designers. As an ensemble\, the students each play an important role in telling a story for a live audience by learning music\, choreography and staging. Our professional creative team guides our students through character development\, proper vocal technique and strengthening motor skills & coordination.
URL:https://hitstheatre.org/calendar/disneys-the-lion-king-kids-rehearsal-monday-wednesday-grades-3-5-17/
LOCATION:HITS\, United States
CATEGORIES:Class
END:VEVENT
BEGIN:VEVENT
DTSTART;TZID=America/Chicago:20191104T160000
DTEND;TZID=America/Chicago:20191104T171500
DTSTAMP:20260422T091732
CREATED:20190722T164059Z
LAST-MODIFIED:20190722T164059Z
UID:3621-1572883200-1572887700@hitstheatre.org
SUMMARY:Disney's "The Lion King KIDS" rehearsal (Monday/Wednesday grades K-3)
DESCRIPTION:HITS Theatre Productions are a chance for students to practice their acting\, singing and dancing skills through a traditional rehearsal process. Each production is supported by a professional director\, choreographer\, music director\, stage manager and designers. As an ensemble\, the students each play an important role in telling a story for a live audience by learning music\, choreography and staging. Our professional creative team guides our students through character development\, proper vocal technique and strengthening motor skills & coordination.
URL:https://hitstheatre.org/calendar/disneys-the-lion-king-kids-rehearsal-monday-wednesday-grades-k-3-20/
LOCATION:HITS\, United States
CATEGORIES:Class
END:VEVENT
BEGIN:VEVENT
DTSTART;TZID=America/Chicago:20191102T153000
DTEND;TZID=America/Chicago:20191102T153000
DTSTAMP:20260422T091732
CREATED:20190912T182951Z
LAST-MODIFIED:20190912T182951Z
UID:3840-1572708600-1572708600@hitstheatre.org
SUMMARY:Disney's "Frozen Jr." rehearsal (Grades 6-12)
DESCRIPTION:
URL:https://hitstheatre.org/calendar/disneys-frozen-jr-rehearsal-grades-6-12-17/
LOCATION:HITS\, United States
CATEGORIES:Class
END:VEVENT
BEGIN:VEVENT
DTSTART;TZID=America/Chicago:20191102T131500
DTEND;TZID=America/Chicago:20191102T151500
DTSTAMP:20260422T091732
CREATED:20190729T191007Z
LAST-MODIFIED:20190729T191007Z
UID:3743-1572700500-1572707700@hitstheatre.org
SUMMARY:Musical Theater Workshop Fall 2019 (Saturday Grades 6-8)
DESCRIPTION:In this Saturday afternoon class\, students receive 40 minutes of dedicated “triple threat” training in each of the musical theater disciplines: acting\, vocal arts\, and dance! Every week students will explore monologues and scenes\, songs\, and dances from your favorite musicals. Each semester’s theme changes\, so this class is repeatable\, and over several years\, students will have been exposed to all musical theater styles and repertoire.
URL:https://hitstheatre.org/calendar/musical-theater-workshop-fall-2019-saturday-grades-6-8-9/
LOCATION:HITS\, United States
CATEGORIES:Class
END:VEVENT
BEGIN:VEVENT
DTSTART;TZID=America/Chicago:20191102T111500
DTEND;TZID=America/Chicago:20191102T130000
DTSTAMP:20260422T091732
CREATED:20190729T190959Z
LAST-MODIFIED:20190729T190959Z
UID:3732-1572693300-1572699600@hitstheatre.org
SUMMARY:Musical Theater Junior Workshop Fall 2019 (Saturday Grades 3-5)
DESCRIPTION:In this class\, students receive 35 minutes of dedicated “triple threat” training in each of the musical theater disciplines: acting\, vocal arts\, and dance! Every week students will explore monologues and scenes\, songs\, and dances from your favorite musicals. Each semester’s theme changes\, so this class is repeatable\, and over several years\, students will have been exposed to all musical theater styles and repertoire.
URL:https://hitstheatre.org/calendar/musical-theater-junior-workshop-fall-2019-saturday-grades-3-5-9/
LOCATION:HITS\, United States
CATEGORIES:Class
END:VEVENT
BEGIN:VEVENT
DTSTART;TZID=America/Chicago:20191102T100000
DTEND;TZID=America/Chicago:20191102T110000
DTSTAMP:20260422T091732
CREATED:20190729T190915Z
LAST-MODIFIED:20190729T190915Z
UID:3721-1572688800-1572692400@hitstheatre.org
SUMMARY:Exploring Musical Theatre Fall 2019 (Saturday Grades K-2)
DESCRIPTION:In this class\, students are taught how to develop and improve creative skills through a variety of theatrical lessons. Every week students are given the opportunity to apply their imaginations so they can perform with confidence\, participate collaboratively\, and enhance problem-solving abilities. Activities and topics covered may include guided sensory journeys\, retelling stories\, statue\, creative play\, storytelling\, pantomime\, collaboration\, and improvisation. For students in grades K through 2\, this class is a wonderful way to introduce your child to the world of theatre\, reinforce skills\, and prepare for stage performances in a fun\, nurturing environment.
URL:https://hitstheatre.org/calendar/exploring-musical-theatre-fall-2019-saturday-grades-k-2-11/
LOCATION:HITS\, United States
CATEGORIES:Class
END:VEVENT
BEGIN:VEVENT
DTSTART;TZID=America/Chicago:20191031T170000
DTEND;TZID=America/Chicago:20191031T183000
DTSTAMP:20260422T091732
CREATED:20190722T164324Z
LAST-MODIFIED:20190722T164324Z
UID:3695-1572541200-1572546600@hitstheatre.org
SUMMARY:Disney's "The Lion King KIDS" rehearsal (Tuesday/Thursday grades 3-5)
DESCRIPTION:HITS Theatre Productions are a chance for students to practice their acting\, singing and dancing skills through a traditional rehearsal process. Each production is supported by a professional director\, choreographer\, music director\, stage manager and designers. As an ensemble\, the students each play an important role in telling a story for a live audience by learning music\, choreography and staging. Our professional creative team guides our students through character development\, proper vocal technique and strengthening motor skills & coordination.
URL:https://hitstheatre.org/calendar/disneys-the-lion-king-kids-rehearsal-tuesday-thursday-grades-3-5-16/
LOCATION:HITS\, United States
END:VEVENT
BEGIN:VEVENT
DTSTART;TZID=America/Chicago:20191031T160000
DTEND;TZID=America/Chicago:20191031T171500
DTSTAMP:20260422T091732
CREATED:20190722T164244Z
LAST-MODIFIED:20190722T164244Z
UID:3670-1572537600-1572542100@hitstheatre.org
SUMMARY:Disney's "The Lion King KIDS" rehearsal (Tuesday/Thursday grades K-3)
DESCRIPTION:HITS Theatre Productions are a chance for students to practice their acting\, singing and dancing skills through a traditional rehearsal process. Each production is supported by a professional director\, choreographer\, music director\, stage manager and designers. As an ensemble\, the students each play an important role in telling a story for a live audience by learning music\, choreography and staging. Our professional creative team guides our students through character development\, proper vocal technique and strengthening motor skills & coordination.
URL:https://hitstheatre.org/calendar/disneys-the-lion-king-kids-rehearsal-tuesday-thursday-grades-k-3-16/
LOCATION:HITS\, United States
CATEGORIES:Class
END:VEVENT
BEGIN:VEVENT
DTSTART;TZID=America/Chicago:20191030T190000
DTEND;TZID=America/Chicago:20191030T210000
DTSTAMP:20260422T091732
CREATED:20190912T182944Z
LAST-MODIFIED:20190912T182944Z
UID:3830-1572462000-1572469200@hitstheatre.org
SUMMARY:Disney's "Frozen Jr." rehearsal (Grades 6-12)
DESCRIPTION:
URL:https://hitstheatre.org/calendar/disneys-frozen-jr-rehearsal-grades-6-12-7/
LOCATION:HITS\, United States
CATEGORIES:Class
END:VEVENT
BEGIN:VEVENT
DTSTART;TZID=America/Chicago:20191030T170000
DTEND;TZID=America/Chicago:20191030T183000
DTSTAMP:20260422T091732
CREATED:20190722T164127Z
LAST-MODIFIED:20190722T164127Z
UID:3645-1572454800-1572460200@hitstheatre.org
SUMMARY:Disney's "The Lion King KIDS" rehearsal (Monday/Wednesday grades 3-5)
DESCRIPTION:HITS Theatre Productions are a chance for students to practice their acting\, singing and dancing skills through a traditional rehearsal process. Each production is supported by a professional director\, choreographer\, music director\, stage manager and designers. As an ensemble\, the students each play an important role in telling a story for a live audience by learning music\, choreography and staging. Our professional creative team guides our students through character development\, proper vocal technique and strengthening motor skills & coordination.
URL:https://hitstheatre.org/calendar/disneys-the-lion-king-kids-rehearsal-monday-wednesday-grades-3-5-16/
LOCATION:HITS\, United States
CATEGORIES:Class
END:VEVENT
BEGIN:VEVENT
DTSTART;TZID=America/Chicago:20191030T160000
DTEND;TZID=America/Chicago:20191030T171500
DTSTAMP:20260422T091732
CREATED:20190722T164059Z
LAST-MODIFIED:20190722T164059Z
UID:3620-1572451200-1572455700@hitstheatre.org
SUMMARY:Disney's "The Lion King KIDS" rehearsal (Monday/Wednesday grades K-3)
DESCRIPTION:HITS Theatre Productions are a chance for students to practice their acting\, singing and dancing skills through a traditional rehearsal process. Each production is supported by a professional director\, choreographer\, music director\, stage manager and designers. As an ensemble\, the students each play an important role in telling a story for a live audience by learning music\, choreography and staging. Our professional creative team guides our students through character development\, proper vocal technique and strengthening motor skills & coordination.
URL:https://hitstheatre.org/calendar/disneys-the-lion-king-kids-rehearsal-monday-wednesday-grades-k-3-19/
LOCATION:HITS\, United States
CATEGORIES:Class
END:VEVENT
BEGIN:VEVENT
DTSTART;TZID=America/Chicago:20191029T184500
DTEND;TZID=America/Chicago:20191029T204500
DTSTAMP:20260422T091732
CREATED:20190806T211504Z
LAST-MODIFIED:20190806T211504Z
UID:3778-1572374700-1572381900@hitstheatre.org
SUMMARY:T.N.O. - Advanced Musical Theater (Grades 7-12)
DESCRIPTION:This 10-week intensive will allow students to dive deep into musical theater repertoire. Each week will include an intermediate/advanced dance class and song interpretation master class (how to act a song). The material will be new each semester\, so the class is repeatable and a great companion course for those registered in productions.
URL:https://hitstheatre.org/calendar/t-n-o-advanced-musical-theater-grades-7-12-7/
LOCATION:HITS\, United States
CATEGORIES:Class
END:VEVENT
BEGIN:VEVENT
DTSTART;TZID=America/Chicago:20191029T170000
DTEND;TZID=America/Chicago:20191029T183000
DTSTAMP:20260422T091732
CREATED:20190722T164324Z
LAST-MODIFIED:20190722T164324Z
UID:3694-1572368400-1572373800@hitstheatre.org
SUMMARY:Disney's "The Lion King KIDS" rehearsal (Tuesday/Thursday grades 3-5)
DESCRIPTION:HITS Theatre Productions are a chance for students to practice their acting\, singing and dancing skills through a traditional rehearsal process. Each production is supported by a professional director\, choreographer\, music director\, stage manager and designers. As an ensemble\, the students each play an important role in telling a story for a live audience by learning music\, choreography and staging. Our professional creative team guides our students through character development\, proper vocal technique and strengthening motor skills & coordination.
URL:https://hitstheatre.org/calendar/disneys-the-lion-king-kids-rehearsal-tuesday-thursday-grades-3-5-15/
LOCATION:HITS\, United States
END:VEVENT
BEGIN:VEVENT
DTSTART;TZID=America/Chicago:20191029T160000
DTEND;TZID=America/Chicago:20191029T171500
DTSTAMP:20260422T091732
CREATED:20190722T164243Z
LAST-MODIFIED:20190722T164243Z
UID:3669-1572364800-1572369300@hitstheatre.org
SUMMARY:Disney's "The Lion King KIDS" rehearsal (Tuesday/Thursday grades K-3)
DESCRIPTION:HITS Theatre Productions are a chance for students to practice their acting\, singing and dancing skills through a traditional rehearsal process. Each production is supported by a professional director\, choreographer\, music director\, stage manager and designers. As an ensemble\, the students each play an important role in telling a story for a live audience by learning music\, choreography and staging. Our professional creative team guides our students through character development\, proper vocal technique and strengthening motor skills & coordination.
URL:https://hitstheatre.org/calendar/disneys-the-lion-king-kids-rehearsal-tuesday-thursday-grades-k-3-15/
LOCATION:HITS\, United States
CATEGORIES:Class
END:VEVENT
BEGIN:VEVENT
DTSTART;TZID=America/Chicago:20191028T184500
DTEND;TZID=America/Chicago:20191028T184500
DTSTAMP:20260422T091732
CREATED:20190806T211549Z
LAST-MODIFIED:20190806T211549Z
UID:3789-1572288300-1572288300@hitstheatre.org
SUMMARY:Audition Techniques (Grades 5-8)
DESCRIPTION:This 9-week workshop focuses on empowering young actors to feel free\, confident and prepared for important auditions. Our instructors guide students on how to search for monologue and song material that supports clear casting choices for type\, age\, personality\, and voice. Discussions include “red flag” songs\, appropriate audition cuts\, and how to prepare one’s mind before\, during and after the audition. Students will be guided through a “dance call” with a professional choreographer\, and how to handle “cold readings” from a script. Participants will be taken through mock auditions and will receive feedback from a panel of experts\, which parents may observe at the final class. This course will require out-of-class research time (listening to music\, reading plays\, and memorizing material)
URL:https://hitstheatre.org/calendar/audition-techniques-grades-5-8-8/
LOCATION:HITS\, United States
CATEGORIES:Class
END:VEVENT
BEGIN:VEVENT
DTSTART;TZID=America/Chicago:20191028T170000
DTEND;TZID=America/Chicago:20191028T183000
DTSTAMP:20260422T091732
CREATED:20190722T164127Z
LAST-MODIFIED:20190722T164127Z
UID:3644-1572282000-1572287400@hitstheatre.org
SUMMARY:Disney's "The Lion King KIDS" rehearsal (Monday/Wednesday grades 3-5)
DESCRIPTION:HITS Theatre Productions are a chance for students to practice their acting\, singing and dancing skills through a traditional rehearsal process. Each production is supported by a professional director\, choreographer\, music director\, stage manager and designers. As an ensemble\, the students each play an important role in telling a story for a live audience by learning music\, choreography and staging. Our professional creative team guides our students through character development\, proper vocal technique and strengthening motor skills & coordination.
URL:https://hitstheatre.org/calendar/disneys-the-lion-king-kids-rehearsal-monday-wednesday-grades-3-5-15/
LOCATION:HITS\, United States
CATEGORIES:Class
END:VEVENT
BEGIN:VEVENT
DTSTART;TZID=America/Chicago:20191028T160000
DTEND;TZID=America/Chicago:20191028T171500
DTSTAMP:20260422T091732
CREATED:20190722T164045Z
LAST-MODIFIED:20190722T164045Z
UID:3619-1572278400-1572282900@hitstheatre.org
SUMMARY:Disney's "The Lion King KIDS" rehearsal (Monday/Wednesday grades K-3)
DESCRIPTION:HITS Theatre Productions are a chance for students to practice their acting\, singing and dancing skills through a traditional rehearsal process. Each production is supported by a professional director\, choreographer\, music director\, stage manager and designers. As an ensemble\, the students each play an important role in telling a story for a live audience by learning music\, choreography and staging. Our professional creative team guides our students through character development\, proper vocal technique and strengthening motor skills & coordination.
URL:https://hitstheatre.org/calendar/disneys-the-lion-king-kids-rehearsal-monday-wednesday-grades-k-3-18/
LOCATION:HITS\, United States
CATEGORIES:Class
END:VEVENT
BEGIN:VEVENT
DTSTART;TZID=America/Chicago:20191026T153000
DTEND;TZID=America/Chicago:20191026T153000
DTSTAMP:20260422T091732
CREATED:20190912T182950Z
LAST-MODIFIED:20190912T182950Z
UID:3839-1572103800-1572103800@hitstheatre.org
SUMMARY:Disney's "Frozen Jr." rehearsal (Grades 6-12)
DESCRIPTION:
URL:https://hitstheatre.org/calendar/disneys-frozen-jr-rehearsal-grades-6-12-16/
LOCATION:HITS\, United States
CATEGORIES:Class
END:VEVENT
BEGIN:VEVENT
DTSTART;TZID=America/Chicago:20191026T131500
DTEND;TZID=America/Chicago:20191026T151500
DTSTAMP:20260422T091732
CREATED:20190729T191007Z
LAST-MODIFIED:20190729T191007Z
UID:3742-1572095700-1572102900@hitstheatre.org
SUMMARY:Musical Theater Workshop Fall 2019 (Saturday Grades 6-8)
DESCRIPTION:In this Saturday afternoon class\, students receive 40 minutes of dedicated “triple threat” training in each of the musical theater disciplines: acting\, vocal arts\, and dance! Every week students will explore monologues and scenes\, songs\, and dances from your favorite musicals. Each semester’s theme changes\, so this class is repeatable\, and over several years\, students will have been exposed to all musical theater styles and repertoire.
URL:https://hitstheatre.org/calendar/musical-theater-workshop-fall-2019-saturday-grades-6-8-8/
LOCATION:HITS\, United States
CATEGORIES:Class
END:VEVENT
BEGIN:VEVENT
DTSTART;TZID=America/Chicago:20191026T111500
DTEND;TZID=America/Chicago:20191026T130000
DTSTAMP:20260422T091732
CREATED:20190729T190945Z
LAST-MODIFIED:20190729T190945Z
UID:3731-1572088500-1572094800@hitstheatre.org
SUMMARY:Musical Theater Junior Workshop Fall 2019 (Saturday Grades 3-5)
DESCRIPTION:In this class\, students receive 35 minutes of dedicated “triple threat” training in each of the musical theater disciplines: acting\, vocal arts\, and dance! Every week students will explore monologues and scenes\, songs\, and dances from your favorite musicals. Each semester’s theme changes\, so this class is repeatable\, and over several years\, students will have been exposed to all musical theater styles and repertoire.
URL:https://hitstheatre.org/calendar/musical-theater-junior-workshop-fall-2019-saturday-grades-3-5-8/
LOCATION:HITS\, United States
CATEGORIES:Class
END:VEVENT
BEGIN:VEVENT
DTSTART;TZID=America/Chicago:20191026T100000
DTEND;TZID=America/Chicago:20191026T110000
DTSTAMP:20260422T091732
CREATED:20190729T190914Z
LAST-MODIFIED:20190729T190914Z
UID:3720-1572084000-1572087600@hitstheatre.org
SUMMARY:Exploring Musical Theatre Fall 2019 (Saturday Grades K-2)
DESCRIPTION:In this class\, students are taught how to develop and improve creative skills through a variety of theatrical lessons. Every week students are given the opportunity to apply their imaginations so they can perform with confidence\, participate collaboratively\, and enhance problem-solving abilities. Activities and topics covered may include guided sensory journeys\, retelling stories\, statue\, creative play\, storytelling\, pantomime\, collaboration\, and improvisation. For students in grades K through 2\, this class is a wonderful way to introduce your child to the world of theatre\, reinforce skills\, and prepare for stage performances in a fun\, nurturing environment.
URL:https://hitstheatre.org/calendar/exploring-musical-theatre-fall-2019-saturday-grades-k-2-10/
LOCATION:HITS\, United States
CATEGORIES:Class
END:VEVENT
BEGIN:VEVENT
DTSTART;TZID=America/Chicago:20191024T170000
DTEND;TZID=America/Chicago:20191024T183000
DTSTAMP:20260422T091732
CREATED:20190722T164323Z
LAST-MODIFIED:20190722T164323Z
UID:3693-1571936400-1571941800@hitstheatre.org
SUMMARY:Disney's "The Lion King KIDS" rehearsal (Tuesday/Thursday grades 3-5)
DESCRIPTION:HITS Theatre Productions are a chance for students to practice their acting\, singing and dancing skills through a traditional rehearsal process. Each production is supported by a professional director\, choreographer\, music director\, stage manager and designers. As an ensemble\, the students each play an important role in telling a story for a live audience by learning music\, choreography and staging. Our professional creative team guides our students through character development\, proper vocal technique and strengthening motor skills & coordination.
URL:https://hitstheatre.org/calendar/disneys-the-lion-king-kids-rehearsal-tuesday-thursday-grades-3-5-14/
LOCATION:HITS\, United States
END:VEVENT
BEGIN:VEVENT
DTSTART;TZID=America/Chicago:20191024T160000
DTEND;TZID=America/Chicago:20191024T171500
DTSTAMP:20260422T091732
CREATED:20190722T164243Z
LAST-MODIFIED:20190722T164243Z
UID:3668-1571932800-1571937300@hitstheatre.org
SUMMARY:Disney's "The Lion King KIDS" rehearsal (Tuesday/Thursday grades K-3)
DESCRIPTION:HITS Theatre Productions are a chance for students to practice their acting\, singing and dancing skills through a traditional rehearsal process. Each production is supported by a professional director\, choreographer\, music director\, stage manager and designers. As an ensemble\, the students each play an important role in telling a story for a live audience by learning music\, choreography and staging. Our professional creative team guides our students through character development\, proper vocal technique and strengthening motor skills & coordination.
URL:https://hitstheatre.org/calendar/disneys-the-lion-king-kids-rehearsal-tuesday-thursday-grades-k-3-14/
LOCATION:HITS\, United States
CATEGORIES:Class
END:VEVENT
BEGIN:VEVENT
DTSTART;TZID=America/Chicago:20191023T190000
DTEND;TZID=America/Chicago:20191023T210000
DTSTAMP:20260422T091732
CREATED:20190912T182943Z
LAST-MODIFIED:20190912T182943Z
UID:3829-1571857200-1571864400@hitstheatre.org
SUMMARY:Disney's "Frozen Jr." rehearsal (Grades 6-12)
DESCRIPTION:
URL:https://hitstheatre.org/calendar/disneys-frozen-jr-rehearsal-grades-6-12-6/
LOCATION:HITS\, United States
CATEGORIES:Class
END:VEVENT
BEGIN:VEVENT
DTSTART;TZID=America/Chicago:20191023T170000
DTEND;TZID=America/Chicago:20191023T183000
DTSTAMP:20260422T091732
CREATED:20190722T164125Z
LAST-MODIFIED:20190722T164125Z
UID:3643-1571850000-1571855400@hitstheatre.org
SUMMARY:Disney's "The Lion King KIDS" rehearsal (Monday/Wednesday grades 3-5)
DESCRIPTION:HITS Theatre Productions are a chance for students to practice their acting\, singing and dancing skills through a traditional rehearsal process. Each production is supported by a professional director\, choreographer\, music director\, stage manager and designers. As an ensemble\, the students each play an important role in telling a story for a live audience by learning music\, choreography and staging. Our professional creative team guides our students through character development\, proper vocal technique and strengthening motor skills & coordination.
URL:https://hitstheatre.org/calendar/disneys-the-lion-king-kids-rehearsal-monday-wednesday-grades-3-5-14/
LOCATION:HITS\, United States
CATEGORIES:Class
END:VEVENT
BEGIN:VEVENT
DTSTART;TZID=America/Chicago:20191023T160000
DTEND;TZID=America/Chicago:20191023T171500
DTSTAMP:20260422T091732
CREATED:20190722T164044Z
LAST-MODIFIED:20190722T164044Z
UID:3618-1571846400-1571850900@hitstheatre.org
SUMMARY:Disney's "The Lion King KIDS" rehearsal (Monday/Wednesday grades K-3)
DESCRIPTION:HITS Theatre Productions are a chance for students to practice their acting\, singing and dancing skills through a traditional rehearsal process. Each production is supported by a professional director\, choreographer\, music director\, stage manager and designers. As an ensemble\, the students each play an important role in telling a story for a live audience by learning music\, choreography and staging. Our professional creative team guides our students through character development\, proper vocal technique and strengthening motor skills & coordination.
URL:https://hitstheatre.org/calendar/disneys-the-lion-king-kids-rehearsal-monday-wednesday-grades-k-3-17/
LOCATION:HITS\, United States
CATEGORIES:Class
END:VEVENT
BEGIN:VEVENT
DTSTART;TZID=America/Chicago:20191022T184500
DTEND;TZID=America/Chicago:20191022T204500
DTSTAMP:20260422T091732
CREATED:20190806T211504Z
LAST-MODIFIED:20190806T211504Z
UID:3777-1571769900-1571777100@hitstheatre.org
SUMMARY:T.N.O. - Advanced Musical Theater (Grades 7-12)
DESCRIPTION:This 10-week intensive will allow students to dive deep into musical theater repertoire. Each week will include an intermediate/advanced dance class and song interpretation master class (how to act a song). The material will be new each semester\, so the class is repeatable and a great companion course for those registered in productions.
URL:https://hitstheatre.org/calendar/t-n-o-advanced-musical-theater-grades-7-12-6/
LOCATION:HITS\, United States
CATEGORIES:Class
END:VEVENT
BEGIN:VEVENT
DTSTART;TZID=America/Chicago:20191022T170000
DTEND;TZID=America/Chicago:20191022T183000
DTSTAMP:20260422T091732
CREATED:20190722T164323Z
LAST-MODIFIED:20190722T164323Z
UID:3692-1571763600-1571769000@hitstheatre.org
SUMMARY:Disney's "The Lion King KIDS" rehearsal (Tuesday/Thursday grades 3-5)
DESCRIPTION:HITS Theatre Productions are a chance for students to practice their acting\, singing and dancing skills through a traditional rehearsal process. Each production is supported by a professional director\, choreographer\, music director\, stage manager and designers. As an ensemble\, the students each play an important role in telling a story for a live audience by learning music\, choreography and staging. Our professional creative team guides our students through character development\, proper vocal technique and strengthening motor skills & coordination.
URL:https://hitstheatre.org/calendar/disneys-the-lion-king-kids-rehearsal-tuesday-thursday-grades-3-5-13/
LOCATION:HITS\, United States
END:VEVENT
BEGIN:VEVENT
DTSTART;TZID=America/Chicago:20191022T160000
DTEND;TZID=America/Chicago:20191022T171500
DTSTAMP:20260422T091732
CREATED:20190722T164229Z
LAST-MODIFIED:20190722T164229Z
UID:3667-1571760000-1571764500@hitstheatre.org
SUMMARY:Disney's "The Lion King KIDS" rehearsal (Tuesday/Thursday grades K-3)
DESCRIPTION:HITS Theatre Productions are a chance for students to practice their acting\, singing and dancing skills through a traditional rehearsal process. Each production is supported by a professional director\, choreographer\, music director\, stage manager and designers. As an ensemble\, the students each play an important role in telling a story for a live audience by learning music\, choreography and staging. Our professional creative team guides our students through character development\, proper vocal technique and strengthening motor skills & coordination.
URL:https://hitstheatre.org/calendar/disneys-the-lion-king-kids-rehearsal-tuesday-thursday-grades-k-3-13/
LOCATION:HITS\, United States
CATEGORIES:Class
END:VEVENT
END:VCALENDAR